BEGIN:VCALENDAR
VERSION:2.0
PRODID:-//Tukios.com/
BEGIN:VEVENT
UID:4b8c7ea9-a4cf-48ea-b3c7-01fd623df869@www.billdeberry.com
DTSTAMP:20260424T211428Z
DTSTART:20260428T220000Z
DTEND:20260428T230000Z
SUMMARY:Visitation
DESCRIPTION:
URL:https://www.billdeberry.com/obituaries/constantino-perez
LOCATION: 2025 W University Dr  Denton TX 76201
GEO:33.2291022;-97.1563785
END:VEVENT
END:VCALENDAR