BEGIN:VCALENDAR
VERSION:2.0
PRODID:-//Tukios.com/
BEGIN:VEVENT
UID:88354c20-44a0-4aaa-9527-8db74c0dbaef@www.billdeberry.com
DTSTAMP:20260424T210706Z
DTSTART:20260428T230000Z
DTEND:20260429T000000Z
SUMMARY:Rosary
DESCRIPTION:
URL:https://www.billdeberry.com/obituaries/constantino-perez
LOCATION: 2025 W University Dr  Denton TX 76201
GEO:33.2291022;-97.1563785
END:VEVENT
END:VCALENDAR