BEGIN:VCALENDAR
VERSION:2.0
PRODID:-//Tukios.com/
BEGIN:VEVENT
UID:8f3b44e2-9a69-43f0-9ff2-1c574d23760e@www.billdeberry.com
DTSTAMP:20260424T211450Z
DTSTART:20260429T150000Z
DTEND:20260429T160000Z
SUMMARY:Mass
DESCRIPTION:
URL:https://www.billdeberry.com/obituaries/constantino-perez
LOCATION: 2255 N Bonnie Brae St  Denton TX 76207
GEO:33.2370877;-97.1622755
END:VEVENT
END:VCALENDAR