BEGIN:VCALENDAR
VERSION:2.0
PRODID:-//Tukios.com/
BEGIN:VEVENT
UID:5d8c87fa-313c-49cf-9ad2-2c474365a0ea@www.billdeberry.com
DTSTAMP:20260419T183217Z
DTSTART:20260421T230000Z
DTEND:20260422T010000Z
SUMMARY:Visitation
DESCRIPTION:
URL:https://www.billdeberry.com/obituaries/donald-glen-johnson
LOCATION: 2025 W University Dr  Denton TX 76201
GEO:33.2291022;-97.1563785
END:VEVENT
END:VCALENDAR