BEGIN:VCALENDAR
VERSION:2.0
PRODID:-//Tukios.com/
BEGIN:VEVENT
UID:fb6f0d21-5a41-499d-adfc-69988fb9d108@www.billdeberry.com
DTSTAMP:20260419T183621Z
DTSTART:20260422T160000Z
DTEND:20260422T170000Z
SUMMARY:Funeral Service
DESCRIPTION:
URL:https://www.billdeberry.com/obituaries/donald-glen-johnson
LOCATION: 1501 FM 2181  Corinth TX 76210
GEO:33.1314661;-97.0879664
END:VEVENT
END:VCALENDAR