BEGIN:VCALENDAR
VERSION:2.0
PRODID:-//Tukios.com/
BEGIN:VEVENT
UID:b9b75f20-e86a-467a-8735-8a0fa558c1db@www.billdeberry.com
DTSTAMP:20260420T183347Z
DTSTART:20260425T153000Z
DTEND:20260425T163000Z
SUMMARY:Memorial Service
DESCRIPTION:
URL:https://www.billdeberry.com/obituaries/mark-gonzales
LOCATION: 2025 W University Dr  Denton TX 76201
GEO:33.2291022;-97.1563785
END:VEVENT
END:VCALENDAR